BEGIN:VCALENDAR
VERSION:2.0
PRODID:-//Tessa International School - ECPv6.12.0.1//NONSGML v1.0//EN
CALSCALE:GREGORIAN
METHOD:PUBLISH
X-WR-CALNAME:Tessa International School
X-ORIGINAL-URL:https://tessais.org
X-WR-CALDESC:Events for Tessa International School
REFRESH-INTERVAL;VALUE=DURATION:PT1H
X-Robots-Tag:noindex
X-PUBLISHED-TTL:PT1H
BEGIN:VTIMEZONE
TZID:UTC
BEGIN:STANDARD
TZOFFSETFROM:+0000
TZOFFSETTO:+0000
TZNAME:UTC
DTSTART:20260101T000000
END:STANDARD
END:VTIMEZONE
BEGIN:VEVENT
DTSTART;VALUE=DATE:20260423
DTEND;VALUE=DATE:20260424
DTSTAMP:20260423T100141
CREATED:20250723T140232Z
LAST-MODIFIED:20250723T140232Z
UID:19676-1776902400-1776988799@tessais.org
SUMMARY:World Book Day
DESCRIPTION:Happy World Book Day!
URL:https://tessais.org/event/world-book-day-4/
CATEGORIES:Celebrations
END:VEVENT
BEGIN:VEVENT
DTSTART;VALUE=DATE:20260423
DTEND;VALUE=DATE:20260424
DTSTAMP:20260423T100141
CREATED:20250723T140606Z
LAST-MODIFIED:20250723T140606Z
UID:19678-1776902400-1776988799@tessais.org
SUMMARY:Spanish Language Day
DESCRIPTION:¡Feliz Día del Idioma Español en las Naciones Unidas!
URL:https://tessais.org/event/spanish-language-day-3/
CATEGORIES:Celebrations
END:VEVENT
END:VCALENDAR