BEGIN:VCALENDAR
VERSION:2.0
PRODID:-//Tessa International School - ECPv6.12.0.1//NONSGML v1.0//EN
CALSCALE:GREGORIAN
METHOD:PUBLISH
X-WR-CALNAME:Tessa International School
X-ORIGINAL-URL:https://tessais.org
X-WR-CALDESC:Events for Tessa International School
REFRESH-INTERVAL;VALUE=DURATION:PT1H
X-Robots-Tag:noindex
X-PUBLISHED-TTL:PT1H
BEGIN:VTIMEZONE
TZID:UTC
BEGIN:STANDARD
TZOFFSETFROM:+0000
TZOFFSETTO:+0000
TZNAME:UTC
DTSTART:20260101T000000
END:STANDARD
END:VTIMEZONE
BEGIN:VEVENT
DTSTART;TZID=UTC:20260425T100000
DTEND;TZID=UTC:20260425T130000
DTSTAMP:20260421T163426
CREATED:20260324T194829Z
LAST-MODIFIED:20260416T131356Z
UID:20750-1777111200-1777122000@tessais.org
SUMMARY:JCFamilies' School Summer Camp Fair
DESCRIPTION:Tessa will be at the JCFamilies’ School Summer Camp Fair. \n\nDate: Saturday\, April 25\nTime: 10:00 AM – 1:00 PM\nLocation: City Hall Plaza\, 280 Grove Street\, Jersey City\, NJ\n\nMeet our auxiliary team and learn more about our Summer Camp 2026 Programs!
URL:https://tessais.org/event/jcfamilies-school-summer-camp-fair/
CATEGORIES:Admissions Events,Events Outside of the School,Summer Camp
END:VEVENT
BEGIN:VEVENT
DTSTART;TZID=UTC:20260426T110000
DTEND;TZID=UTC:20260426T160000
DTSTAMP:20260421T163426
CREATED:20260318T155238Z
LAST-MODIFIED:20260318T155548Z
UID:20716-1777201200-1777219200@tessais.org
SUMMARY:HBA Earth Day Celebration & Music Festival
DESCRIPTION:Tessa will be at the Earth Day Celebration & Music Festival presented by The Hoboken Business Alliance. \n\nDate: Sunday\, April 26\nTime: 11:00 AM – 4:00 PM\nLocation: Monroe Center Plaza\, Hoboken NJ\n\nMeet our school representatives\, learn more about our programs\, and discover our eco-friendly practices!
URL:https://tessais.org/event/hba-earth-day-celebration-music-festival/
CATEGORIES:Admissions Events,Events Outside of the School
END:VEVENT
END:VCALENDAR