BEGIN:VCALENDAR
VERSION:2.0
PRODID:-//Tessa International School - ECPv6.12.0.1//NONSGML v1.0//EN
CALSCALE:GREGORIAN
METHOD:PUBLISH
X-ORIGINAL-URL:https://tessais.org
X-WR-CALDESC:Events for Tessa International School
REFRESH-INTERVAL;VALUE=DURATION:PT1H
X-Robots-Tag:noindex
X-PUBLISHED-TTL:PT1H
BEGIN:VTIMEZONE
TZID:UTC
BEGIN:STANDARD
TZOFFSETFROM:+0000
TZOFFSETTO:+0000
TZNAME:UTC
DTSTART:20250101T000000
END:STANDARD
END:VTIMEZONE
BEGIN:VEVENT
DTSTART;VALUE=DATE:20250201
DTEND;VALUE=DATE:20250202
DTSTAMP:20260421T140702
CREATED:20240628T181648Z
LAST-MODIFIED:20250331T171715Z
UID:16833-1738368000-1738454399@tessais.org
SUMMARY:Beginning of Black History Month
DESCRIPTION:Happy Black History Month! We honor the achievements and milestones of African Americans. \nRecognize the past\, celebrate the present\, and commit to shaping a future of equality and inclusivity!
URL:https://tessais.org/event/begining-of-black-history-month/
LOCATION:Tessa International School\, 720 Monroe Street - Suite E105-106\, Hoboken\, NJ\, 07030\, United States
CATEGORIES:Celebrations
END:VEVENT
BEGIN:VEVENT
DTSTART;TZID=UTC:20250201T093000
DTEND;TZID=UTC:20250201T113000
DTSTAMP:20260421T140702
CREATED:20250106T201643Z
LAST-MODIFIED:20250331T171542Z
UID:18245-1738402200-1738409400@tessais.org
SUMMARY:Lunar New Year Celebration - 农历新年庆祝活动
DESCRIPTION:Date: February 1\, 2024\nTime: 9:30 AM – 11:30 AM\nTheme: Year of the Snake \nCelebrate the traditions of Lunar New Year with us at Tessa International School! Join us for a morning of cultural exploration\, hands-on activities\, and community fun as we welcome the Year of the Snake. \nEvent Highlights\n\nSugar Artist\nLantern Making\nSpring Festival Couplets & Calligraphy\nRice Ball Making\nChinese Opera Mask Decorating\nFan Decorating\nPing Pong Chopstick Challenge\nPaper Snake Craft\nBook Reading\nPhoto Booth with Fan Making Activity\nNew Year’s Slime\nChinese Book Sale\n\nSpecial Feature\nPresentation of the School at 10:30 AM: Learn more about Tessa International School’s unique programs and offerings. \nCome immerse yourself in the culture\, food\, and festivities of Lunar New Year! All are welcome to join this family-friendly celebration. \nRegister:
URL:https://tessais.org/event/lunar-new-year-celebration-2025/
LOCATION:Tessa International School\, 720 Monroe Street - Suite E105-106\, Hoboken\, NJ\, 07030\, United States
CATEGORIES:Celebrations,Open House / Information Sessions
ATTACH;FMTTYPE=image/jpeg:https://tessais.org/wp-content/uploads/2025/01/Lunar-NY-Open-House-2025-2-1-scaled.jpeg
END:VEVENT
BEGIN:VEVENT
DTSTART;VALUE=DATE:20250202
DTEND;VALUE=DATE:20250203
DTSTAMP:20260421T140702
CREATED:20240628T184102Z
LAST-MODIFIED:20250331T170201Z
UID:16838-1738454400-1738540799@tessais.org
SUMMARY:Chandeleur
DESCRIPTION:C’est la Chandeleur! La Chandeleur is a French holiday dedicated to making and eating crêpes. The holiday has Christian origins that celebrate the presentation of Jesus at the temple and Mary’s purification after giving birth.
URL:https://tessais.org/event/chandeleur-3/
LOCATION:Tessa International School\, 720 Monroe Street - Suite E105-106\, Hoboken\, NJ\, 07030\, United States
CATEGORIES:Celebrations
END:VEVENT
BEGIN:VEVENT
DTSTART;VALUE=DATE:20250212
DTEND;VALUE=DATE:20250213
DTSTAMP:20260421T140702
CREATED:20240703T130951Z
LAST-MODIFIED:20250331T170127Z
UID:16909-1739318400-1739404799@tessais.org
SUMMARY:Lantern Festival
DESCRIPTION:Happy Lantern Festival and 元宵节快乐！Lantern Festival is a Chinese traditional festival celebrated on the fifteenth day of the first month in the lunisolar Chinese calendar. It marks the final day of the traditional Chinese New Year celebrations.
URL:https://tessais.org/event/lantern-festival/
LOCATION:Tessa International School\, 720 Monroe Street - Suite E105-106\, Hoboken\, NJ\, 07030\, United States
CATEGORIES:Celebrations
END:VEVENT
BEGIN:VEVENT
DTSTART;VALUE=DATE:20250214
DTEND;VALUE=DATE:20250215
DTSTAMP:20260421T140702
CREATED:20240628T185100Z
LAST-MODIFIED:20250331T170029Z
UID:16841-1739491200-1739577599@tessais.org
SUMMARY:Valentine's Day
DESCRIPTION:Happy Valentine’s Day! We hope your day is full of LOVE.
URL:https://tessais.org/event/valentines-day-5/
LOCATION:Tessa International School\, 720 Monroe Street - Suite E105-106\, Hoboken\, NJ\, 07030\, United States
CATEGORIES:Celebrations
END:VEVENT
BEGIN:VEVENT
DTSTART;VALUE=DATE:20250217
DTEND;VALUE=DATE:20250218
DTSTAMP:20260421T140702
CREATED:20240628T185701Z
LAST-MODIFIED:20240628T185701Z
UID:16843-1739750400-1739836799@tessais.org
SUMMARY:Presidents' Day
DESCRIPTION:Happy Presidents’ Day! We honors the First US president\, George Washington\, and all former U.S. presidents.
URL:https://tessais.org/event/presidents-day/
LOCATION:NJ
CATEGORIES:Celebrations
END:VEVENT
BEGIN:VEVENT
DTSTART;VALUE=DATE:20250221
DTEND;VALUE=DATE:20250222
DTSTAMP:20260421T140702
CREATED:20240628T190545Z
LAST-MODIFIED:20250331T181350Z
UID:16848-1740096000-1740182399@tessais.org
SUMMARY:International Mother Language Day
DESCRIPTION:Happy International Mother Language Day! This special day is dedicated to promote linguistic and cultural diversity and multilingualism.
URL:https://tessais.org/event/international-mother-language-day/
LOCATION:Tessa International School\, 720 Monroe Street - Suite E105-106\, Hoboken\, NJ\, 07030\, United States
CATEGORIES:Celebrations
END:VEVENT
BEGIN:VEVENT
DTSTART;VALUE=DATE:20250228
DTEND;VALUE=DATE:20250301
DTSTAMP:20260421T140702
CREATED:20240628T191043Z
LAST-MODIFIED:20250331T174227Z
UID:16850-1740700800-1740787199@tessais.org
SUMMARY:Beginning of Ramadan
DESCRIPTION:Ramadan Kareem! Ramadan is the ninth month of the Islamic calendar\, observed by Muslims worldwide as a month of fasting\, prayer\, reflection\, and community.
URL:https://tessais.org/event/beginning-of-ramadan-3/
LOCATION:Tessa International School\, 720 Monroe Street - Suite E105-106\, Hoboken\, NJ\, 07030\, United States
CATEGORIES:Celebrations
END:VEVENT
END:VCALENDAR