BEGIN:VCALENDAR
VERSION:2.0
PRODID:-//Tessa International School - ECPv6.12.0.1//NONSGML v1.0//EN
CALSCALE:GREGORIAN
METHOD:PUBLISH
X-WR-CALNAME:Tessa International School
X-ORIGINAL-URL:https://tessais.org
X-WR-CALDESC:Events for Tessa International School
REFRESH-INTERVAL;VALUE=DURATION:PT1H
X-Robots-Tag:noindex
X-PUBLISHED-TTL:PT1H
BEGIN:VTIMEZONE
TZID:UTC
BEGIN:STANDARD
TZOFFSETFROM:+0000
TZOFFSETTO:+0000
TZNAME:UTC
DTSTART:20240101T000000
END:STANDARD
END:VTIMEZONE
BEGIN:VEVENT
DTSTART;VALUE=DATE:20241002
DTEND;VALUE=DATE:20241005
DTSTAMP:20260422T121410
CREATED:20230728T192254Z
LAST-MODIFIED:20240702T173405Z
UID:15228-1727827200-1728086399@tessais.org
SUMMARY:Rosh Hashanah
DESCRIPTION:Shanah Tovah! Rosh HaShanah is the New Year in Judaism. It is the first of the High Holy Days.
URL:https://tessais.org/event/rosh-hashanah-7/
CATEGORIES:Celebrations
END:VEVENT
BEGIN:VEVENT
DTSTART;VALUE=DATE:20241004
DTEND;VALUE=DATE:20241005
DTSTAMP:20260422T121410
CREATED:20240702T173753Z
LAST-MODIFIED:20240702T173901Z
UID:16882-1728000000-1728086399@tessais.org
SUMMARY:World Smile Day
DESCRIPTION:Happy World Smile Day! Created by an American commercial artist named Harvey Ball\, World Smile Day devotes a day to smiles and spreading kindness.
URL:https://tessais.org/event/world-smile-day-2/
CATEGORIES:Celebrations
END:VEVENT
BEGIN:VEVENT
DTSTART;VALUE=DATE:20241005
DTEND;VALUE=DATE:20241006
DTSTAMP:20260422T121410
CREATED:20240627T193525Z
LAST-MODIFIED:20240627T193525Z
UID:16769-1728086400-1728172799@tessais.org
SUMMARY:World Teachers' Day
DESCRIPTION:On World Teachers’ Day\, we celebrate the work and value of education professionals around the world.
URL:https://tessais.org/event/world-teachers-day-2/
CATEGORIES:Celebrations
END:VEVENT
BEGIN:VEVENT
DTSTART;TZID=UTC:20241010T170000
DTEND;TZID=UTC:20241010T180000
DTSTAMP:20260422T121410
CREATED:20231023T132747Z
LAST-MODIFIED:20240927T132906Z
UID:15441-1728579600-1728583200@tessais.org
SUMMARY:Merengue & Bachata Fiesta: Family Dance Night
DESCRIPTION:Get ready for an evening of Merengue & Bachata dancing! Join us on October 10\, from 5:00 pm to 6:o0 pm. It’s a special event for children and parents. Here’s what you can expect: \nEvent Details: \n\nDate: October 10\, 2024\nTime: 5:00 pm – 6:00 pm\nFree event. RSVP required\n\nMerengue & Bachata Dance Class for Kids and Parents: Parents\, this is your chance to dance and enjoy a wonderful evening with your children. You’re invited to join your kids on the dance floor. Learn to dance to exciting Merengue & Bachata music with the help of our friendly instructors from the famous Fred Astaire Dance Studio. \nAbout Merengue & Bachata: \nMerengue and Bachata are lively and rhythmic partner dances that originate from the vibrant culture of the Dominican Republic. These genres developed as a fusion of African\, European\, and Caribbean influences\, creating a unique sound and dance style. Merengue is known for its fast-paced\, energetic steps and continuous hip movements\, while Bachata is more sensual\, with slower\, romantic footwork and close partner connection. The music accompanying both dances is captivating\, with catchy rhythms that make it impossible to stay still. Merengue and Bachata are all about feeling the beat\, enjoying the moment\, and connecting with others on the dance floor. They bring joy\, fun\, and passion to any gathering! \nLocation: The event takes place in Tessa’s multipurpose room\, in the Monroe Center. Go through the Monroe Center’s main door (near Yuki’s Bakery) and find us on the second floor. We can’t wait to see you there! \nLimited Spots: Be sure to register quickly\, as there are only a few spots available.
URL:https://tessais.org/event/merengue-bachata-fiesta-family-dance-night/
CATEGORIES:Admissions Events,Celebrations
END:VEVENT
BEGIN:VEVENT
DTSTART;VALUE=DATE:20241011
DTEND;VALUE=DATE:20241012
DTSTAMP:20260422T121410
CREATED:20240627T191709Z
LAST-MODIFIED:20240627T192056Z
UID:16754-1728604800-1728691199@tessais.org
SUMMARY:Yom Kippur
DESCRIPTION:G’mar chatima tovah! Yom Kippur is the holiest day in the Jewish calendar. It is a day of fasting\, repentance\, and self-examination. \nWe are offering vacation care. Please find the registration link on Toddle.
URL:https://tessais.org/event/yom-kippur-6/
CATEGORIES:Celebrations,Vacation Care
END:VEVENT
BEGIN:VEVENT
DTSTART;VALUE=DATE:20241011
DTEND;VALUE=DATE:20241012
DTSTAMP:20260422T121410
CREATED:20240702T174734Z
LAST-MODIFIED:20240702T174734Z
UID:16884-1728604800-1728691199@tessais.org
SUMMARY:Double Ninth Festival
DESCRIPTION:重阳安康！Double Ninth Festival is a traditional Chinese holiday on the ninth day of the ninth month in the Chinese calendar. It is often associated with climbing mountains and paying respect to elders.
URL:https://tessais.org/event/double-ninth-festival/
CATEGORIES:Celebrations
END:VEVENT
BEGIN:VEVENT
DTSTART;VALUE=DATE:20241014
DTEND;VALUE=DATE:20241016
DTSTAMP:20260422T121410
CREATED:20240627T192846Z
LAST-MODIFIED:20240709T190727Z
UID:16764-1728864000-1729036799@tessais.org
SUMMARY:Indigenous Peoples' Day
DESCRIPTION:On Indigenous Peoples’ Day\, we celebrates and honors Indigenous American peoples and commemorates their histories and cultures. \n\nWe are offering vacation care. Please find the registration link on Toddle.
URL:https://tessais.org/event/indigenous-peoples-day-3/
CATEGORIES:Celebrations,Vacation Care
END:VEVENT
BEGIN:VEVENT
DTSTART;VALUE=DATE:20241016
DTEND;VALUE=DATE:20241017
DTSTAMP:20260422T121410
CREATED:20240627T194653Z
LAST-MODIFIED:20240627T194702Z
UID:16773-1729036800-1729123199@tessais.org
SUMMARY:National Sports Day
DESCRIPTION:On National Sports Day\, we honor the national sports teams and sports traditions.
URL:https://tessais.org/event/national-sports-day-2/
CATEGORIES:Celebrations
END:VEVENT
BEGIN:VEVENT
DTSTART;VALUE=DATE:20241024
DTEND;VALUE=DATE:20241025
DTSTAMP:20260422T121410
CREATED:20240627T195514Z
LAST-MODIFIED:20240926T211554Z
UID:16775-1729728000-1729814399@tessais.org
SUMMARY:UN Day
DESCRIPTION:Happy United Nations Day! On UN Day\, we commemorate the anniversary of the official creation of the United Nations and appreciate the diversity of cultures\, religions\, and languages all over the world.
URL:https://tessais.org/event/un-day-4/
CATEGORIES:Celebrations
END:VEVENT
BEGIN:VEVENT
DTSTART;VALUE=DATE:20241031
DTEND;VALUE=DATE:20241101
DTSTAMP:20260422T121410
CREATED:20240627T203037Z
LAST-MODIFIED:20240709T191050Z
UID:16777-1730332800-1730419199@tessais.org
SUMMARY:Halloween
DESCRIPTION:Happy Halloween! Trick or treat?
URL:https://tessais.org/event/halloween-5/
CATEGORIES:Celebrations,Class activity
END:VEVENT
BEGIN:VEVENT
DTSTART;VALUE=DATE:20241101
DTEND;VALUE=DATE:20241102
DTSTAMP:20260422T121410
CREATED:20240628T125532Z
LAST-MODIFIED:20240628T125532Z
UID:16779-1730419200-1730505599@tessais.org
SUMMARY:Día de los Muertos
DESCRIPTION:Feliz Día de los Muertos! Día de los Muertos is a Mexican holiday where we welcome back the souls of their deceased relatives for a brief reunion that includes food\, drink and celebration.
URL:https://tessais.org/event/dia-de-los-muertos/
CATEGORIES:Celebrations
END:VEVENT
BEGIN:VEVENT
DTSTART;VALUE=DATE:20241101
DTEND;VALUE=DATE:20241102
DTSTAMP:20260422T121410
CREATED:20240628T130337Z
LAST-MODIFIED:20240628T130337Z
UID:16781-1730419200-1730505599@tessais.org
SUMMARY:Diwali
DESCRIPTION:Happy Diwali! Diwali is the Hindu festival of lights. It symbolises the spiritual “victory of light over darkness\, good over evil\, and knowledge over ignorance.”
URL:https://tessais.org/event/diwali-4/
CATEGORIES:Celebrations
END:VEVENT
BEGIN:VEVENT
DTSTART;VALUE=DATE:20241108
DTEND;VALUE=DATE:20241109
DTSTAMP:20260422T121410
CREATED:20240702T175033Z
LAST-MODIFIED:20240702T175033Z
UID:16887-1731024000-1731110399@tessais.org
SUMMARY:National STEM/STEAM Day
DESCRIPTION:Happy National STEM/STEAM Day! This holiday inspires kids to explore and pursue their interests in Science\, Technology\, Engineering\, Art\, and Math.
URL:https://tessais.org/event/national-stem-steam-day/
CATEGORIES:Celebrations
END:VEVENT
BEGIN:VEVENT
DTSTART;VALUE=DATE:20241129
DTEND;VALUE=DATE:20241130
DTSTAMP:20260422T121410
CREATED:20240628T152918Z
LAST-MODIFIED:20240702T180017Z
UID:16792-1732838400-1732924799@tessais.org
SUMMARY:Native American Heritage Day
DESCRIPTION:Happy Native American Heritage Day! We honor the traditions\, languages and stories of Native American\, celebrating their cultural heritage and integral importance to our past\, our present\, and our future.
URL:https://tessais.org/event/native-american-heritage-day-2/
CATEGORIES:Celebrations
END:VEVENT
BEGIN:VEVENT
DTSTART;VALUE=DATE:20241206
DTEND;VALUE=DATE:20241207
DTSTAMP:20260422T121410
CREATED:20240702T184823Z
LAST-MODIFIED:20250331T173938Z
UID:16892-1733443200-1733529599@tessais.org
SUMMARY:Saint Nicolas
DESCRIPTION:Bonne fête de Saint Nicolas! St Nicolas is observed in many European countries as the start of the Christmas holiday season. Children who have been good wake up on this day to find candy and presents left by St. Nicholas.
URL:https://tessais.org/event/saint-nicolas/
LOCATION:Tessa International School\, 720 Monroe Street - Suite E105-106\, Hoboken\, NJ\, 07030\, United States
CATEGORIES:Celebrations
END:VEVENT
BEGIN:VEVENT
DTSTART;VALUE=DATE:20241210
DTEND;VALUE=DATE:20241211
DTSTAMP:20260422T121410
CREATED:20240702T200520Z
LAST-MODIFIED:20250331T173532Z
UID:16894-1733788800-1733875199@tessais.org
SUMMARY:Dewey Decimal Day
DESCRIPTION:Happy Dewey Decimal Day! On December 10\, 1851\, Melvil Dewey was born. The librarian invented the Dewey Decimal system of library classification.
URL:https://tessais.org/event/dewey-decimal-day/
LOCATION:Tessa International School\, 720 Monroe Street - Suite E105-106\, Hoboken\, NJ\, 07030\, United States
CATEGORIES:Celebrations
END:VEVENT
BEGIN:VEVENT
DTSTART;VALUE=DATE:20241225
DTEND;VALUE=DATE:20241226
DTSTAMP:20260422T121410
CREATED:20240628T154718Z
LAST-MODIFIED:20250331T172813Z
UID:16801-1735084800-1735171199@tessais.org
SUMMARY:Beginning of Hanukkah
DESCRIPTION:Chag Hanukkah sameach! Hanukkah is a Jewish festival between the nightfall on December 25 and nightfall on January 2. It commemorates the recovery of Jerusalem and subsequent rededication of the Second Temple.
URL:https://tessais.org/event/hanukkah-3/
LOCATION:Tessa International School\, 720 Monroe Street - Suite E105-106\, Hoboken\, NJ\, 07030\, United States
CATEGORIES:Celebrations
END:VEVENT
BEGIN:VEVENT
DTSTART;VALUE=DATE:20241225
DTEND;VALUE=DATE:20241226
DTSTAMP:20260422T121410
CREATED:20240628T160700Z
LAST-MODIFIED:20250331T172738Z
UID:16815-1735084800-1735171199@tessais.org
SUMMARY:Christmas
DESCRIPTION:Merry Christmas! 
URL:https://tessais.org/event/christmas-3/
LOCATION:Tessa International School\, 720 Monroe Street - Suite E105-106\, Hoboken\, NJ\, 07030\, United States
CATEGORIES:Celebrations
END:VEVENT
BEGIN:VEVENT
DTSTART;VALUE=DATE:20241226
DTEND;VALUE=DATE:20241227
DTSTAMP:20260422T121410
CREATED:20240628T161305Z
LAST-MODIFIED:20240703T124104Z
UID:16817-1735171200-1735257599@tessais.org
SUMMARY:Beginning of Kwanzaa
DESCRIPTION:Happy Kwanzaa! Kwanzaa is an African American and Pan-African holiday from December 26 to January 1\, bringing a cultural message which speaks to the best of what it means to be African and human in the fullest sense.
URL:https://tessais.org/event/kwanzaa/
CATEGORIES:Celebrations
END:VEVENT
BEGIN:VEVENT
DTSTART;VALUE=DATE:20250101
DTEND;VALUE=DATE:20250102
DTSTAMP:20260422T121410
CREATED:20240703T123403Z
LAST-MODIFIED:20240703T123541Z
UID:16899-1735689600-1735775999@tessais.org
SUMMARY:New Year's Day
DESCRIPTION:Happy New Year 2025!  \n¡Feliz año nuevo! \nBonne santé! \n新年快乐！
URL:https://tessais.org/event/new-year-day/
CATEGORIES:Celebrations
END:VEVENT
BEGIN:VEVENT
DTSTART;VALUE=DATE:20250106
DTEND;VALUE=DATE:20250107
DTSTAMP:20260422T121410
CREATED:20240628T162114Z
LAST-MODIFIED:20250331T171917Z
UID:16819-1736121600-1736207999@tessais.org
SUMMARY:Epiphany
DESCRIPTION:Happy Epiphany! Epiphany is one of the three most important Christian holidays\, along with Christmas and Easter. \nEpiphany is celebrated with a wide array of customs around the world. In France\, Epiphany is synonymous with the Galette des Rois\, a classic French pastry. In Spain and some Latin American countries\, Epiphany day is called El Día de Reyes. 
URL:https://tessais.org/event/galette-des-rois-5/
LOCATION:Tessa International School\, 720 Monroe Street - Suite E105-106\, Hoboken\, NJ\, 07030\, United States
CATEGORIES:Celebrations
END:VEVENT
BEGIN:VEVENT
DTSTART;VALUE=DATE:20250120
DTEND;VALUE=DATE:20250121
DTSTAMP:20260422T121410
CREATED:20240628T174214Z
LAST-MODIFIED:20240703T130057Z
UID:16824-1737331200-1737417599@tessais.org
SUMMARY:Martin Luther King Day
DESCRIPTION:Remembering\, celebrating\, and honoring Martin Luther King Jr. on this special day!  \nWe are offering vacation care. Please find the registration link on Toddle.
URL:https://tessais.org/event/martin-luther-king-day-2/
CATEGORIES:Celebrations,Vacation Care
END:VEVENT
BEGIN:VEVENT
DTSTART;VALUE=DATE:20250124
DTEND;VALUE=DATE:20250125
DTSTAMP:20260422T121410
CREATED:20240628T180147Z
LAST-MODIFIED:20250331T171805Z
UID:16829-1737676800-1737763199@tessais.org
SUMMARY:International Day of Education
DESCRIPTION:Happy International Day of Education! We promote the importance of education in building a positive personality of a human being and promoting the peace and development.
URL:https://tessais.org/event/international-day-of-education/
LOCATION:Tessa International School\, 720 Monroe Street - Suite E105-106\, Hoboken\, NJ\, 07030\, United States
CATEGORIES:Celebrations
END:VEVENT
BEGIN:VEVENT
DTSTART;VALUE=DATE:20250129
DTEND;VALUE=DATE:20250130
DTSTAMP:20260422T121410
CREATED:20240628T181140Z
LAST-MODIFIED:20240628T182239Z
UID:16831-1738108800-1738195199@tessais.org
SUMMARY:Lunar New Year
DESCRIPTION:Happy Lunar New Year and 新年快乐！
URL:https://tessais.org/event/lunar-new-year-2/
CATEGORIES:Celebrations
END:VEVENT
BEGIN:VEVENT
DTSTART;VALUE=DATE:20250201
DTEND;VALUE=DATE:20250202
DTSTAMP:20260422T121410
CREATED:20240628T181648Z
LAST-MODIFIED:20250331T171715Z
UID:16833-1738368000-1738454399@tessais.org
SUMMARY:Beginning of Black History Month
DESCRIPTION:Happy Black History Month! We honor the achievements and milestones of African Americans. \nRecognize the past\, celebrate the present\, and commit to shaping a future of equality and inclusivity!
URL:https://tessais.org/event/begining-of-black-history-month/
LOCATION:Tessa International School\, 720 Monroe Street - Suite E105-106\, Hoboken\, NJ\, 07030\, United States
CATEGORIES:Celebrations
END:VEVENT
BEGIN:VEVENT
DTSTART;TZID=UTC:20250201T093000
DTEND;TZID=UTC:20250201T113000
DTSTAMP:20260422T121410
CREATED:20250106T201643Z
LAST-MODIFIED:20250331T171542Z
UID:18245-1738402200-1738409400@tessais.org
SUMMARY:Lunar New Year Celebration - 农历新年庆祝活动
DESCRIPTION:Date: February 1\, 2024\nTime: 9:30 AM – 11:30 AM\nTheme: Year of the Snake \nCelebrate the traditions of Lunar New Year with us at Tessa International School! Join us for a morning of cultural exploration\, hands-on activities\, and community fun as we welcome the Year of the Snake. \nEvent Highlights\n\nSugar Artist\nLantern Making\nSpring Festival Couplets & Calligraphy\nRice Ball Making\nChinese Opera Mask Decorating\nFan Decorating\nPing Pong Chopstick Challenge\nPaper Snake Craft\nBook Reading\nPhoto Booth with Fan Making Activity\nNew Year’s Slime\nChinese Book Sale\n\nSpecial Feature\nPresentation of the School at 10:30 AM: Learn more about Tessa International School’s unique programs and offerings. \nCome immerse yourself in the culture\, food\, and festivities of Lunar New Year! All are welcome to join this family-friendly celebration. \nRegister:
URL:https://tessais.org/event/lunar-new-year-celebration-2025/
LOCATION:Tessa International School\, 720 Monroe Street - Suite E105-106\, Hoboken\, NJ\, 07030\, United States
CATEGORIES:Celebrations,Open House / Information Sessions
ATTACH;FMTTYPE=image/jpeg:https://tessais.org/wp-content/uploads/2025/01/Lunar-NY-Open-House-2025-2-1-scaled.jpeg
END:VEVENT
BEGIN:VEVENT
DTSTART;VALUE=DATE:20250202
DTEND;VALUE=DATE:20250203
DTSTAMP:20260422T121410
CREATED:20240628T184102Z
LAST-MODIFIED:20250331T170201Z
UID:16838-1738454400-1738540799@tessais.org
SUMMARY:Chandeleur
DESCRIPTION:C’est la Chandeleur! La Chandeleur is a French holiday dedicated to making and eating crêpes. The holiday has Christian origins that celebrate the presentation of Jesus at the temple and Mary’s purification after giving birth.
URL:https://tessais.org/event/chandeleur-3/
LOCATION:Tessa International School\, 720 Monroe Street - Suite E105-106\, Hoboken\, NJ\, 07030\, United States
CATEGORIES:Celebrations
END:VEVENT
BEGIN:VEVENT
DTSTART;VALUE=DATE:20250212
DTEND;VALUE=DATE:20250213
DTSTAMP:20260422T121410
CREATED:20240703T130951Z
LAST-MODIFIED:20250331T170127Z
UID:16909-1739318400-1739404799@tessais.org
SUMMARY:Lantern Festival
DESCRIPTION:Happy Lantern Festival and 元宵节快乐！Lantern Festival is a Chinese traditional festival celebrated on the fifteenth day of the first month in the lunisolar Chinese calendar. It marks the final day of the traditional Chinese New Year celebrations.
URL:https://tessais.org/event/lantern-festival/
LOCATION:Tessa International School\, 720 Monroe Street - Suite E105-106\, Hoboken\, NJ\, 07030\, United States
CATEGORIES:Celebrations
END:VEVENT
BEGIN:VEVENT
DTSTART;VALUE=DATE:20250214
DTEND;VALUE=DATE:20250215
DTSTAMP:20260422T121410
CREATED:20240628T185100Z
LAST-MODIFIED:20250331T170029Z
UID:16841-1739491200-1739577599@tessais.org
SUMMARY:Valentine's Day
DESCRIPTION:Happy Valentine’s Day! We hope your day is full of LOVE.
URL:https://tessais.org/event/valentines-day-5/
LOCATION:Tessa International School\, 720 Monroe Street - Suite E105-106\, Hoboken\, NJ\, 07030\, United States
CATEGORIES:Celebrations
END:VEVENT
BEGIN:VEVENT
DTSTART;VALUE=DATE:20250217
DTEND;VALUE=DATE:20250218
DTSTAMP:20260422T121410
CREATED:20240628T185701Z
LAST-MODIFIED:20240628T185701Z
UID:16843-1739750400-1739836799@tessais.org
SUMMARY:Presidents' Day
DESCRIPTION:Happy Presidents’ Day! We honors the First US president\, George Washington\, and all former U.S. presidents.
URL:https://tessais.org/event/presidents-day/
CATEGORIES:Celebrations
END:VEVENT
END:VCALENDAR