BEGIN:VCALENDAR
VERSION:2.0
PRODID:-//Tessa International School - ECPv6.12.0.1//NONSGML v1.0//EN
CALSCALE:GREGORIAN
METHOD:PUBLISH
X-ORIGINAL-URL:https://tessais.org
X-WR-CALDESC:Events for Tessa International School
REFRESH-INTERVAL;VALUE=DURATION:PT1H
X-Robots-Tag:noindex
X-PUBLISHED-TTL:PT1H
BEGIN:VTIMEZONE
TZID:UTC
BEGIN:STANDARD
TZOFFSETFROM:+0000
TZOFFSETTO:+0000
TZNAME:UTC
DTSTART:20260101T000000
END:STANDARD
END:VTIMEZONE
BEGIN:VEVENT
DTSTART;VALUE=DATE:20260105
DTEND;VALUE=DATE:20260106
DTSTAMP:20260422T095803
CREATED:20250722T190626Z
LAST-MODIFIED:20250722T190626Z
UID:19592-1767571200-1767657599@tessais.org
SUMMARY:First Day of Afterschool Winter 25 Semester
DESCRIPTION:
URL:https://tessais.org/event/first-day-of-afterschool-winter-25-semester/
CATEGORIES:Launch
END:VEVENT
END:VCALENDAR