BEGIN:VCALENDAR
VERSION:2.0
PRODID:-//Tessa International School - ECPv6.12.0.1//NONSGML v1.0//EN
CALSCALE:GREGORIAN
METHOD:PUBLISH
X-ORIGINAL-URL:https://tessais.org
X-WR-CALDESC:Events for Tessa International School
REFRESH-INTERVAL;VALUE=DURATION:PT1H
X-Robots-Tag:noindex
X-PUBLISHED-TTL:PT1H
BEGIN:VTIMEZONE
TZID:UTC
BEGIN:STANDARD
TZOFFSETFROM:+0000
TZOFFSETTO:+0000
TZNAME:UTC
DTSTART:20260101T000000
END:STANDARD
END:VTIMEZONE
BEGIN:VEVENT
DTSTART;TZID=UTC:20260502T100000
DTEND;TZID=UTC:20260502T130000
DTSTAMP:20260424T141605
CREATED:20260324T194829Z
LAST-MODIFIED:20260423T161339Z
UID:20750-1777716000-1777726800@tessais.org
SUMMARY:JCFamilies' School Summer Camp Fair
DESCRIPTION:Tessa will be at the JCFamilies’ School Summer Camp Fair. \n\nDate: Saturday\, May 2\nTime: 10:00 AM – 1:00 PM\nLocation: City Hall Plaza\, 280 Grove Street\, Jersey City\, NJ\n\nMeet our auxiliary team and learn more about our Summer Camp 2026 Programs!
URL:https://tessais.org/event/jcfamilies-school-summer-camp-fair/
CATEGORIES:Admissions Events,Events Outside of the School,Summer Camp
END:VEVENT
END:VCALENDAR