BEGIN:VCALENDAR
VERSION:2.0
PRODID:-//Tessa International School - ECPv6.12.0.1//NONSGML v1.0//EN
CALSCALE:GREGORIAN
METHOD:PUBLISH
X-ORIGINAL-URL:https://tessais.org
X-WR-CALDESC:Events for Tessa International School
REFRESH-INTERVAL;VALUE=DURATION:PT1H
X-Robots-Tag:noindex
X-PUBLISHED-TTL:PT1H
BEGIN:VTIMEZONE
TZID:UTC
BEGIN:STANDARD
TZOFFSETFROM:+0000
TZOFFSETTO:+0000
TZNAME:UTC
DTSTART:20260101T000000
END:STANDARD
END:VTIMEZONE
BEGIN:VEVENT
DTSTART;TZID=UTC:20260210T093000
DTEND;TZID=UTC:20260210T103000
DTSTAMP:20260424T170608
CREATED:20260123T171941Z
LAST-MODIFIED:20260123T172041Z
UID:20505-1770715800-1770719400@tessais.org
SUMMARY:Webinar - Understanding Mandarin Immersion
DESCRIPTION:We would like to invite you to join Dr. Shuhan Wang\, an immersion specialist in Mandarin language development\, for a virtual parent workshop on how Mandarin immersion works in practice. \n📅Tuesday\, February 10th\n🕛9:30am-10:30am\n📍Virtual \nThis session will explore: \n\nHow children develop Mandarin in an immersion environment\, even when progress isn’t immediately visible\nWhat rigor and high achievement look like in Mandarin immersion programs\nHow Mandarin language exposure is intentionally designed across developmental stages\nHow families can support Mandarin learning at home\, regardless of their own language background\n\nThe workshop will include time for parent questions and discussion. Families are encouraged to submit questions in advance by January 27th so they can be thoughtfully incorporated into the session. \nPlease RSVP here if you would like to participate.
URL:https://tessais.org/event/webinar-understanding-mandarin-immersion/
CATEGORIES:Open House / Information Sessions,Workshop
END:VEVENT
BEGIN:VEVENT
DTSTART;TZID=UTC:20260212T120000
DTEND;TZID=UTC:20260212T130000
DTSTAMP:20260424T170608
CREATED:20260129T170326Z
LAST-MODIFIED:20260130T165539Z
UID:20527-1770897600-1770901200@tessais.org
SUMMARY:Webinar - Literacy in a 50-50 Model
DESCRIPTION:How do children learn to read and write in two languages? What does balanced bilingual literacy look like in practice? And how can schools and families best support this process? \nJoin Kristina Pogue\, our Head of Primary\, for a webinar on Literacy in a 50:50 Bilingual Model.\nDiscover how we support literacy development across two languages and partner with families to strengthen early reading skills. \n\nDate: Thursday\, February 12\, 2026\nTime: 12:00 PM\nLocation: Virtual\n\nThis webinar is open to the public. \nTo participate in this event\, please register below:
URL:https://tessais.org/event/webinar-literacy-in-a-50-50-model/
CATEGORIES:Information Session,Workshop
END:VEVENT
END:VCALENDAR