BEGIN:VCALENDAR
VERSION:2.0
PRODID:-//Tessa International School - ECPv6.12.0.1//NONSGML v1.0//EN
CALSCALE:GREGORIAN
METHOD:PUBLISH
X-WR-CALNAME:Tessa International School
X-ORIGINAL-URL:https://tessais.org
X-WR-CALDESC:Events for Tessa International School
REFRESH-INTERVAL;VALUE=DURATION:PT1H
X-Robots-Tag:noindex
X-PUBLISHED-TTL:PT1H
BEGIN:VTIMEZONE
TZID:UTC
BEGIN:STANDARD
TZOFFSETFROM:+0000
TZOFFSETTO:+0000
TZNAME:UTC
DTSTART:20250101T000000
END:STANDARD
END:VTIMEZONE
BEGIN:VEVENT
DTSTART;VALUE=DATE:20251010
DTEND;VALUE=DATE:20251015
DTSTAMP:20260422T101554
CREATED:20250722T174251Z
LAST-MODIFIED:20250722T174251Z
UID:19517-1760054400-1760486399@tessais.org
SUMMARY:Mid Term Break
DESCRIPTION:Have a good break! Vacation Care is provided.
URL:https://tessais.org/event/mid-term-break/
CATEGORIES:Vacation Care
END:VEVENT
BEGIN:VEVENT
DTSTART;TZID=UTC:20251009T084500
DTEND;TZID=UTC:20251009T093000
DTSTAMP:20260422T101554
CREATED:20250722T174204Z
LAST-MODIFIED:20250722T174204Z
UID:19515-1759999500-1760002200@tessais.org
SUMMARY:First Year Info Session (Primary) - Gotan Hoboken
DESCRIPTION:
URL:https://tessais.org/event/first-year-info-session-primary-gotan-hoboken/
CATEGORIES:Information Session
END:VEVENT
BEGIN:VEVENT
DTSTART;VALUE=DATE:20251006
DTEND;VALUE=DATE:20251007
DTSTAMP:20260422T101554
CREATED:20250722T174124Z
LAST-MODIFIED:20250722T174124Z
UID:19513-1759708800-1759795199@tessais.org
SUMMARY:Mid-Autumn Festival (Moon Festival)
DESCRIPTION:中秋节快乐！
URL:https://tessais.org/event/mid-autumn-festival-moon-festival-2/
CATEGORIES:Celebrations
END:VEVENT
BEGIN:VEVENT
DTSTART;VALUE=DATE:20251005
DTEND;VALUE=DATE:20251006
DTSTAMP:20260422T101554
CREATED:20250722T174041Z
LAST-MODIFIED:20250722T174041Z
UID:19511-1759622400-1759708799@tessais.org
SUMMARY:World Teachers Day
DESCRIPTION:Happy World Teachers’ Day!
URL:https://tessais.org/event/world-teachers-day-3/
CATEGORIES:Celebrations
END:VEVENT
BEGIN:VEVENT
DTSTART;TZID=UTC:20251003T093000
DTEND;TZID=UTC:20251003T230000
DTSTAMP:20260422T101554
CREATED:20250912T140556Z
LAST-MODIFIED:20250919T142516Z
UID:20072-1759483800-1759532400@tessais.org
SUMMARY:Information Session – October 2025
DESCRIPTION:Join our Information Session to learn about our academic program and bilingual tracks\, tour the school and meet our team. \nWe would love for you to come to see what makes Tessa’s bilingual Program such a great fit for so many families. It’s a wonderful opportunity to discover how our approach can help your child grow and thrive. \nWe hope to see you soon at Tessa! Sign up below to participate:
URL:https://tessais.org/event/info-session-october-2025/
LOCATION:Tessa International School\, 720 Monroe Street - Suite E105-106\, Hoboken\, NJ\, 07030\, United States
CATEGORIES:Open House / Information Sessions
END:VEVENT
BEGIN:VEVENT
DTSTART;VALUE=DATE:20251003
DTEND;VALUE=DATE:20251004
DTSTAMP:20260422T101554
CREATED:20250722T173859Z
LAST-MODIFIED:20250722T173859Z
UID:19509-1759449600-1759535999@tessais.org
SUMMARY:World Smile Day
DESCRIPTION:Happy World Smile Day!
URL:https://tessais.org/event/world-smile-day-3/
CATEGORIES:Celebrations
END:VEVENT
BEGIN:VEVENT
DTSTART;TZID=UTC:20251002T084500
DTEND;TZID=UTC:20251002T093000
DTSTAMP:20260422T101554
CREATED:20250722T173824Z
LAST-MODIFIED:20250722T173824Z
UID:19507-1759394700-1759397400@tessais.org
SUMMARY:First Year Info Session (PK-KG) - Gotan Hoboken
DESCRIPTION:
URL:https://tessais.org/event/first-year-info-session-pk-kg-gotan-hoboken/
CATEGORIES:Information Session
END:VEVENT
BEGIN:VEVENT
DTSTART;TZID=UTC:20251001T170000
DTEND;TZID=UTC:20251002T000000
DTSTAMP:20260422T101554
CREATED:20250722T173723Z
LAST-MODIFIED:20250722T173723Z
UID:19505-1759338000-1759363200@tessais.org
SUMMARY:Yom Kippur
DESCRIPTION:G’mar chatima tovah!
URL:https://tessais.org/event/yom-kippur-7/
CATEGORIES:Celebrations
END:VEVENT
BEGIN:VEVENT
DTSTART;VALUE=DATE:20251001
DTEND;VALUE=DATE:20251002
DTSTAMP:20260422T101554
CREATED:20250722T173447Z
LAST-MODIFIED:20250722T173447Z
UID:19503-1759276800-1759363199@tessais.org
SUMMARY:2025-26 Applications Open
DESCRIPTION:
URL:https://tessais.org/event/2025-26-applications-open/
CATEGORIES:Launch
END:VEVENT
BEGIN:VEVENT
DTSTART;VALUE=DATE:20251001
DTEND;VALUE=DATE:20251002
DTSTAMP:20260422T101554
CREATED:20250722T173339Z
LAST-MODIFIED:20250722T173339Z
UID:19501-1759276800-1759363199@tessais.org
SUMMARY:International Music Day
DESCRIPTION:Happy International Music Day!
URL:https://tessais.org/event/international-music-day-2/
CATEGORIES:Celebrations
END:VEVENT
BEGIN:VEVENT
DTSTART;TZID=UTC:20250927T100000
DTEND;TZID=UTC:20250927T130000
DTSTAMP:20260422T101554
CREATED:20250722T173057Z
LAST-MODIFIED:20250903T190719Z
UID:19497-1758967200-1758978000@tessais.org
SUMMARY:Jersey City Families Education Fair
DESCRIPTION:Tessa International School will be at the JC Families Education Fair. \n \n  \nDate: September 27\, 2025 \nTime: 10 AM – 1 PM \nLocation: Hamilton Park\, Jersey City \n  \nCome meet our Admission Team and discover our world-class curriculum!
URL:https://tessais.org/event/jersey-city-families-education-fair-3/
LOCATION:Hamilton Park\, 344 Grove St. PMB #166\, Jersey City\, NJ\, 07302\, United States
CATEGORIES:Events Outside of the School
ATTACH;FMTTYPE=image/webp:https://tessais.org/wp-content/uploads/2025/07/Fall-Festival-Facebook-Post-4-x-5-in-2.webp
END:VEVENT
BEGIN:VEVENT
DTSTART;VALUE=DATE:20250923
DTEND;VALUE=DATE:20250924
DTSTAMP:20260422T101554
CREATED:20250722T172055Z
LAST-MODIFIED:20250909T181901Z
UID:19495-1758585600-1758671999@tessais.org
SUMMARY:Rosh Hashanah
DESCRIPTION:Shanah Tovah! Vacation care is provided.
URL:https://tessais.org/event/rosh-hashanah-8/
CATEGORIES:Celebrations,Vacation Care
END:VEVENT
BEGIN:VEVENT
DTSTART;VALUE=DATE:20250921
DTEND;VALUE=DATE:20250922
DTSTAMP:20260422T101554
CREATED:20250722T171320Z
LAST-MODIFIED:20250722T171320Z
UID:19493-1758412800-1758499199@tessais.org
SUMMARY:International Day of Peace
DESCRIPTION:Happy International Day of Peace!
URL:https://tessais.org/event/international-day-of-peace-5/
CATEGORIES:Celebrations
END:VEVENT
BEGIN:VEVENT
DTSTART;TZID=UTC:20250918T180000
DTEND;TZID=UTC:20250918T193000
DTSTAMP:20260422T101554
CREATED:20250722T164056Z
LAST-MODIFIED:20250820T181744Z
UID:19488-1758218400-1758223800@tessais.org
SUMMARY:Curriculum Night (KG&Primary)
DESCRIPTION:There will be no Afterschool Primary Clubs. Aftercare and Afterschool activities will remain.
URL:https://tessais.org/event/curriculum-night-primary/
CATEGORIES:Curriculum Night
END:VEVENT
BEGIN:VEVENT
DTSTART;TZID=UTC:20250917T180000
DTEND;TZID=UTC:20250917T193000
DTSTAMP:20260422T101554
CREATED:20250722T164005Z
LAST-MODIFIED:20250820T181704Z
UID:19486-1758132000-1758137400@tessais.org
SUMMARY:Curriculum Night (PK2-4)
DESCRIPTION:There will be no aftercare\, afterschool activities or primary clubs.
URL:https://tessais.org/event/curriculum-night-pk-kg/
CATEGORIES:Curriculum Night
END:VEVENT
BEGIN:VEVENT
DTSTART;VALUE=DATE:20250915
DTEND;VALUE=DATE:20251016
DTSTAMP:20260422T101554
CREATED:20250722T163818Z
LAST-MODIFIED:20250722T163818Z
UID:19484-1757894400-1760572799@tessais.org
SUMMARY:National Hispanic Heritage Month
DESCRIPTION:
URL:https://tessais.org/event/national-hispanic-heritage-month-4/
CATEGORIES:Celebrations
END:VEVENT
BEGIN:VEVENT
DTSTART;TZID=UTC:20250912T093000
DTEND;TZID=UTC:20250912T110000
DTSTAMP:20260422T101554
CREATED:20250818T190818Z
LAST-MODIFIED:20250818T190818Z
UID:19893-1757669400-1757674800@tessais.org
SUMMARY:Open House - September 2025
DESCRIPTION:Join our Open House to learn about our academic program and bilingual tracks\, tour the school and meet our team. \nWe would love for you to come to see what makes Tessa’s bilingual Program such a great fit for so many families. It’s a wonderful opportunity to discover how our approach can help your child grow and thrive. \nWe hope to see you soon at Tessa! Sign up below to participate:
URL:https://tessais.org/event/open-house-september-2025/
LOCATION:Tessa International School\, 720 Monroe Street - Suite E105-106\, Hoboken\, NJ\, 07030\, United States
CATEGORIES:Open House / Information Sessions
END:VEVENT
BEGIN:VEVENT
DTSTART;VALUE=DATE:20250908
DTEND;VALUE=DATE:20250909
DTSTAMP:20260422T101554
CREATED:20250722T163729Z
LAST-MODIFIED:20250722T163734Z
UID:19482-1757289600-1757375999@tessais.org
SUMMARY:First Day of Afterschool Activities & Primary Clubs
DESCRIPTION:
URL:https://tessais.org/event/first-day-of-afterschool-activities-primary-clubs/
CATEGORIES:Launch
END:VEVENT
BEGIN:VEVENT
DTSTART;VALUE=DATE:20250902
DTEND;VALUE=DATE:20250903
DTSTAMP:20260422T101554
CREATED:20250722T163627Z
LAST-MODIFIED:20250722T163627Z
UID:19480-1756771200-1756857599@tessais.org
SUMMARY:First Day of School
DESCRIPTION:
URL:https://tessais.org/event/first-day-of-school-5/
CATEGORIES:First and Last Day of School
END:VEVENT
BEGIN:VEVENT
DTSTART;VALUE=DATE:20250901
DTEND;VALUE=DATE:20250902
DTSTAMP:20260422T101554
CREATED:20250722T163601Z
LAST-MODIFIED:20250722T173139Z
UID:19478-1756684800-1756771199@tessais.org
SUMMARY:Labor Day
DESCRIPTION:Happy Labor Day! The School is closed.
URL:https://tessais.org/event/labor-day-8/
CATEGORIES:Celebrations,School Closed
END:VEVENT
BEGIN:VEVENT
DTSTART;TZID=UTC:20250829T100000
DTEND;TZID=UTC:20250829T160000
DTSTAMP:20260422T101554
CREATED:20250722T160925Z
LAST-MODIFIED:20250722T163328Z
UID:19476-1756461600-1756483200@tessais.org
SUMMARY:All Students Orientation & Meet&Greet
DESCRIPTION:Orientation is designed to create a dynamic\, celebratory\, and welcoming environment—a space where all students get to know each other\, meet their teachers and begin to become comfortable in their new classroom. Parents are invited to stay to meet their child(ren)’s teachers and other parents! \n  \nDate: August 29\, 2025 \nTime: \nPK2-PK4: 10 AM \nKG & Primary: 11 AM \nLocation: Tessa International School\, Hoboken NJ
URL:https://tessais.org/event/all-students-orientation-meet-greet/
CATEGORIES:Orientation Events
END:VEVENT
BEGIN:VEVENT
DTSTART;TZID=UTC:20250826T160000
DTEND;TZID=UTC:20250826T180000
DTSTAMP:20260422T101554
CREATED:20250725T135239Z
LAST-MODIFIED:20250725T142857Z
UID:19764-1756224000-1756231200@tessais.org
SUMMARY:Bubble Fun at Bulls & Jacob's Ferry
DESCRIPTION:Join Us for a Bubbly Afternoon at Bulls Ferry!An Exclusive Free Family Event for the Bulls Ferry & Jacob’s Ferry Community \nGet ready for some good clean fun! A professional Bubble Artist will be joining us with an array of interactive bubble activities—giant bubbles\, bubble tricks\, and hands-on fun for kids of all ages! \n🗓 When: Tuesday\, August 26\, 2025\, from 4:00–6:00 PM📍 Where: Bulls Ferry\, on the grass by the Eagles Grabs World Foundation \nWhether you’re simply looking for a joyful family outing or curious about a school that offers a world-class bilingual education\, we invite you to come say hello! \n✨ Don’t miss this opportunity to: \n\nExplore what makes Tessa International School’s curriculum so unique.\nConnect with members of our community.\nLet your little ones play\, laugh\, and learn in a bubble-filled wonderland!\n\n  \nWe look forward to meeting you! \nFor more information about Tessa International School\, visit www.tessais.org or email us at admissions@tessais.org. \nIn case of rain\, this event will be canceled. \nPlease register below to participate:
URL:https://tessais.org/event/bubble-fun-at-bulls-jacobs-ferry/
CATEGORIES:Admissions Events
ATTACH;FMTTYPE=image/png:https://tessais.org/wp-content/uploads/2025/07/Bubble-Event-at-Bulls-Ferry-2.png
END:VEVENT
BEGIN:VEVENT
DTSTART;TZID=UTC:20250826T130000
DTEND;TZID=UTC:20250826T160000
DTSTAMP:20260422T101554
CREATED:20250722T154516Z
LAST-MODIFIED:20250722T154516Z
UID:19474-1756213200-1756224000@tessais.org
SUMMARY:Teachers/Staff CPR Training
DESCRIPTION:
URL:https://tessais.org/event/teachers-staff-cpr-training/
CATEGORIES:Staff development days
END:VEVENT
BEGIN:VEVENT
DTSTART;VALUE=DATE:20250825
DTEND;VALUE=DATE:20250826
DTSTAMP:20260422T101554
CREATED:20250722T145321Z
LAST-MODIFIED:20250722T145321Z
UID:19472-1756080000-1756166399@tessais.org
SUMMARY:Teachers Back to School
DESCRIPTION:
URL:https://tessais.org/event/teachers-back-to-school-2/
CATEGORIES:Staff development days
END:VEVENT
BEGIN:VEVENT
DTSTART;TZID=UTC:20250822T110000
DTEND;TZID=UTC:20250822T120000
DTSTAMP:20260422T101554
CREATED:20250722T145125Z
LAST-MODIFIED:20250722T145125Z
UID:19470-1755860400-1755864000@tessais.org
SUMMARY:Virtual New Families Orientation
DESCRIPTION:
URL:https://tessais.org/event/virtual-new-families-orientation/
CATEGORIES:Orientation Events
END:VEVENT
BEGIN:VEVENT
DTSTART;TZID=UTC:20250822T093000
DTEND;TZID=UTC:20250822T110000
DTSTAMP:20260422T101554
CREATED:20250805T150556Z
LAST-MODIFIED:20250813T130852Z
UID:19787-1755855000-1755860400@tessais.org
SUMMARY:Parent & Me Music Morning
DESCRIPTION:Registration is closed as we have reached full capacity for this event. \nYou are welcome to schedule a private tour\, learning more about other events\, or reach out to us at admissions@tessais.org. Thank you for your interests! \n  \nJoin us for a joyful morning of music at our Parent & Me event\, designed especially for families with babies and toddlers! \nEnjoy a free music class that supports your child’s cognitive\, social\, and motor development through rhythm and movement. Parents and caregivers are invited to sing\, move\, and bond with their little ones throughout the session. It’s a great chance to nurture your child’s love for music from an early age! \nAfter the session\, meet our team\, tour the school\, and learn more about our programs. \nFree event | Open to the public | Ideal for ages 1–2 \nLocation: Tessa International School\, Hoboken NJ \n 
URL:https://tessais.org/event/parent-me-music-morning/
CATEGORIES:Admissions Events
ATTACH;FMTTYPE=image/jpeg:https://tessais.org/wp-content/uploads/2025/08/Lena-Music-Nursery-Event-3-1-scaled.jpeg
END:VEVENT
BEGIN:VEVENT
DTSTART;TZID=UTC:20250818T180000
DTEND;TZID=UTC:20250818T180000
DTSTAMP:20260422T101554
CREATED:20250722T144743Z
LAST-MODIFIED:20250723T154502Z
UID:19468-1755540000-1755540000@tessais.org
SUMMARY:Afterschool Fall 25 Registration Opens
DESCRIPTION:More information to come.
URL:https://tessais.org/event/afterschool-fall-25-registration-opens/
CATEGORIES:Launch
END:VEVENT
BEGIN:VEVENT
DTSTART;TZID=UTC:20250814T170000
DTEND;TZID=UTC:20250814T180000
DTSTAMP:20260422T101554
CREATED:20250722T144244Z
LAST-MODIFIED:20250722T144611Z
UID:19465-1755190800-1755194400@tessais.org
SUMMARY:New Student Playground Meet Up - Columbus Park
DESCRIPTION:
URL:https://tessais.org/event/new-student-playground-meet-up/
LOCATION:Columbus park
CATEGORIES:Curriculum Night,Orientation Events
END:VEVENT
BEGIN:VEVENT
DTSTART;TZID=UTC:20250814T090000
DTEND;TZID=UTC:20250814T103000
DTSTAMP:20260422T101554
CREATED:20250710T161632Z
LAST-MODIFIED:20250801T143729Z
UID:19423-1755162000-1755167400@tessais.org
SUMMARY:Open House - August 2025
DESCRIPTION:Join our Open House to learn about our academic program and bilingual tracks\, tour the school and meet our team. \nWe would love for you to come to see what makes Tessa’s bilingual Program such a great fit for so many families. It’s a wonderful opportunity to discover how our approach can help your child grow and thrive. \nWe hope to see you soon at Tessa! Sign up below to participate:
URL:https://tessais.org/event/open-house-august-2025/
LOCATION:Tessa International School\, 720 Monroe Street - Suite E105-106\, Hoboken\, NJ\, 07030\, United States
CATEGORIES:Open House / Information Sessions
ATTACH;FMTTYPE=image/jpeg:https://tessais.org/wp-content/uploads/2025/07/Open-House-Flyer-FB-Story-RED-4-FB-Group-En-1-scaled.jpeg
END:VEVENT
BEGIN:VEVENT
DTSTART;TZID=UTC:20250725T100000
DTEND;TZID=UTC:20250725T120000
DTSTAMP:20260422T101554
CREATED:20250528T173902Z
LAST-MODIFIED:20250528T173902Z
UID:19314-1753437600-1753444800@tessais.org
SUMMARY:Playground meetup - Newport Playground
DESCRIPTION:Come and meet us at Newport Playground!
URL:https://tessais.org/event/playground-meetup-newport-playground/
CATEGORIES:Admissions Events
END:VEVENT
END:VCALENDAR