BEGIN:VCALENDAR
VERSION:2.0
PRODID:-//Tessa International School - ECPv6.12.0.1//NONSGML v1.0//EN
CALSCALE:GREGORIAN
METHOD:PUBLISH
X-ORIGINAL-URL:https://tessais.org
X-WR-CALDESC:Events for Tessa International School
REFRESH-INTERVAL;VALUE=DURATION:PT1H
X-Robots-Tag:noindex
X-PUBLISHED-TTL:PT1H
BEGIN:VTIMEZONE
TZID:UTC
BEGIN:STANDARD
TZOFFSETFROM:+0000
TZOFFSETTO:+0000
TZNAME:UTC
DTSTART:20250101T000000
END:STANDARD
END:VTIMEZONE
BEGIN:VEVENT
DTSTART;VALUE=DATE:20251222
DTEND;VALUE=DATE:20260103
DTSTAMP:20260425T175637
CREATED:20250722T184312Z
LAST-MODIFIED:20250722T184312Z
UID:19577-1766361600-1767398399@tessais.org
SUMMARY:Christmas Break
DESCRIPTION:Have a great break! The School is closed.
URL:https://tessais.org/event/christmas-break/
CATEGORIES:School Closed
END:VEVENT
BEGIN:VEVENT
DTSTART;VALUE=DATE:20251226
DTEND;VALUE=DATE:20260102
DTSTAMP:20260425T175637
CREATED:20250722T185344Z
LAST-MODIFIED:20250722T185344Z
UID:19587-1766707200-1767311999@tessais.org
SUMMARY:Kwanzaa
DESCRIPTION:Happy Kwanzaa!
URL:https://tessais.org/event/kwanzaa-2/
CATEGORIES:Celebrations
END:VEVENT
BEGIN:VEVENT
DTSTART;VALUE=DATE:20260105
DTEND;VALUE=DATE:20260106
DTSTAMP:20260425T175637
CREATED:20250722T190626Z
LAST-MODIFIED:20250722T190626Z
UID:19592-1767571200-1767657599@tessais.org
SUMMARY:First Day of Afterschool Winter 25 Semester
DESCRIPTION:
URL:https://tessais.org/event/first-day-of-afterschool-winter-25-semester/
CATEGORIES:Launch
END:VEVENT
BEGIN:VEVENT
DTSTART;VALUE=DATE:20260106
DTEND;VALUE=DATE:20260107
DTSTAMP:20260425T175637
CREATED:20250722T190534Z
LAST-MODIFIED:20250722T190534Z
UID:19590-1767657600-1767743999@tessais.org
SUMMARY:Epiphany
DESCRIPTION:Happy Epiphany!
URL:https://tessais.org/event/epiphany/
CATEGORIES:Celebrations
END:VEVENT
BEGIN:VEVENT
DTSTART;TZID=UTC:20260109T093000
DTEND;TZID=UTC:20260109T110000
DTSTAMP:20260425T175637
CREATED:20251208T204955Z
LAST-MODIFIED:20251208T204955Z
UID:20355-1767951000-1767956400@tessais.org
SUMMARY:Open House - January 2026
DESCRIPTION:Join our Open House to learn about our academic program and bilingual tracks\, tour the school and meet our team. \nWe would love for you to come to see what makes Tessa’s bilingual Program such a great fit for so many families. It’s a wonderful opportunity to discover how our approach can help your child grow and thrive. \nWe hope to see you soon at Tessa! Sign up below to participate:
URL:https://tessais.org/event/open-house-january-2026/
LOCATION:Tessa International School\, 720 Monroe Street - Suite E105-106\, Hoboken\, NJ\, 07030\, United States
CATEGORIES:Open House / Information Sessions
END:VEVENT
BEGIN:VEVENT
DTSTART;VALUE=DATE:20260119
DTEND;VALUE=DATE:20260120
DTSTAMP:20260425T175637
CREATED:20250722T190734Z
LAST-MODIFIED:20250722T190734Z
UID:19594-1768780800-1768867199@tessais.org
SUMMARY:MLK Day
DESCRIPTION:Happy Martin Luther King Jr. Day! The School is closed.
URL:https://tessais.org/event/mlk-day/
CATEGORIES:Celebrations,School Closed
END:VEVENT
BEGIN:VEVENT
DTSTART;VALUE=DATE:20260124
DTEND;VALUE=DATE:20260125
DTSTAMP:20260425T175637
CREATED:20250722T190906Z
LAST-MODIFIED:20250722T190906Z
UID:19596-1769212800-1769299199@tessais.org
SUMMARY:International Education Day
DESCRIPTION:Happy International Education Day!
URL:https://tessais.org/event/international-education-day/
CATEGORIES:Celebrations
END:VEVENT
BEGIN:VEVENT
DTSTART;TZID=UTC:20260129T084500
DTEND;TZID=UTC:20260129T093000
DTSTAMP:20260425T175637
CREATED:20260116T194344Z
LAST-MODIFIED:20260122T202639Z
UID:20456-1769676300-1769679000@tessais.org
SUMMARY:French Program Information Session
DESCRIPTION:Are you considering a French education for your child? We warmly invite you to join us for a French Program Information Session at Tessa International School\, hosted by Sandra Perez\, French Program Coordinator. \nThis session offers families a closer look at what a French education at Tessa truly means. You’ll learn how our French program is structured\, how it is accredited\, and how we thoughtfully combine the French National Curriculum with the IB framework to support academic excellence\, bilingualism\, and global citizenship. \nAfter the presentation\, families will enjoy a guided tour of the school\, with time to explore classrooms\, experience our learning environment\, and ask questions about your child’s potential pathway. \nCoffee and pastries will be served. \nWe look forward to welcoming you and helping you envision your child’s future in our French program.
URL:https://tessais.org/event/french-program-information-session/
CATEGORIES:Admissions Events
ATTACH;FMTTYPE=image/png:https://tessais.org/wp-content/uploads/2026/01/Sarah-Workshops-6-1-scaled.png
END:VEVENT
BEGIN:VEVENT
DTSTART;TZID=UTC:20260129T120000
DTEND;TZID=UTC:20260129T120000
DTSTAMP:20260425T175637
CREATED:20250722T190951Z
LAST-MODIFIED:20250723T191158Z
UID:19598-1769688000-1769688000@tessais.org
SUMMARY:Tessa Summer Camp 2026 Registration Open
DESCRIPTION:
URL:https://tessais.org/event/tessa-summer-camp-2026-registration-open/
CATEGORIES:Launch,Summer Camp
END:VEVENT
BEGIN:VEVENT
DTSTART;TZID=UTC:20260129T123000
DTEND;TZID=UTC:20260129T133000
DTSTAMP:20260425T175637
CREATED:20260109T160137Z
LAST-MODIFIED:20260109T160824Z
UID:20407-1769689800-1769693400@tessais.org
SUMMARY:Webinar - Little Bodies\, Big Emotions
DESCRIPTION:As children grow more independent\, verbal\, and socially aware\, every child is learning how to navigate friendships\, express big feelings\, and make sense of social interactions. Whether they’re still finding the words to ask for help\, learning to set boundaries\, or figuring out how to respond when something doesn’t feel right — this stage is full of growth\, emotion\, and learning. \nThis virtual workshop\, led by Barbara Ferdinandi\, our Nursery Coordinator\, and Sarah Scanzoni\, our Deputy Head of School for Curriculum & Learning\, is a chance to better understand what’s happening developmentally and how we support children in learning to express their needs safely and respectfully. We’ll also explore how we guide children through moments of frustration or conflict\, and how we work together with families to create a safe\, connected classroom community. \nTo participate\, please register below:
URL:https://tessais.org/event/webinar-little-bodies-big-emotions/
CATEGORIES:Open House / Information Sessions,Workshop
ATTACH;FMTTYPE=image/png:https://tessais.org/wp-content/uploads/2026/01/Sarah-Workshops-4-scaled.png
END:VEVENT
END:VCALENDAR